BEGIN:VCALENDAR
VERSION:2.0
PRODID:-//Asociación de Españoles en Escania - ECPv6.15.20//NONSGML v1.0//EN
CALSCALE:GREGORIAN
METHOD:PUBLISH
X-ORIGINAL-URL:https://aescania.org
X-WR-CALDESC:Eventos para Asociación de Españoles en Escania
REFRESH-INTERVAL;VALUE=DURATION:PT1H
X-Robots-Tag:noindex
X-PUBLISHED-TTL:PT1H
BEGIN:VTIMEZONE
TZID:Europe/Paris
BEGIN:DAYLIGHT
TZOFFSETFROM:+0100
TZOFFSETTO:+0200
TZNAME:CEST
DTSTART:20190331T010000
END:DAYLIGHT
BEGIN:STANDARD
TZOFFSETFROM:+0200
TZOFFSETTO:+0100
TZNAME:CET
DTSTART:20191027T010000
END:STANDARD
BEGIN:DAYLIGHT
TZOFFSETFROM:+0100
TZOFFSETTO:+0200
TZNAME:CEST
DTSTART:20200329T010000
END:DAYLIGHT
BEGIN:STANDARD
TZOFFSETFROM:+0200
TZOFFSETTO:+0100
TZNAME:CET
DTSTART:20201025T010000
END:STANDARD
BEGIN:DAYLIGHT
TZOFFSETFROM:+0100
TZOFFSETTO:+0200
TZNAME:CEST
DTSTART:20210328T010000
END:DAYLIGHT
BEGIN:STANDARD
TZOFFSETFROM:+0200
TZOFFSETTO:+0100
TZNAME:CET
DTSTART:20211031T010000
END:STANDARD
BEGIN:DAYLIGHT
TZOFFSETFROM:+0100
TZOFFSETTO:+0200
TZNAME:CEST
DTSTART:20220327T010000
END:DAYLIGHT
BEGIN:STANDARD
TZOFFSETFROM:+0200
TZOFFSETTO:+0100
TZNAME:CET
DTSTART:20221030T010000
END:STANDARD
END:VTIMEZONE
BEGIN:VEVENT
DTSTART;TZID=Europe/Paris:20211201T173000
DTEND;TZID=Europe/Paris:20211201T190000
DTSTAMP:20260419T151842
CREATED:20211127T094328Z
LAST-MODIFIED:20211127T094328Z
UID:654-1638379800-1638385200@aescania.org
SUMMARY:"Los países nórdicos y el Camino de Santiago"
DESCRIPTION:Vente a conocer más sobre el Camino de Santiago de la mano de  Manuel Mirás (presidente de la Asociación de Ayuntamientos del Camino Inglés)\,\nAntonio Leira (responsable de la promoción de los Caminos de Santiago en la Diputación de A Coruña)\nCristóbal Ramírez (periodista).\n \nHora inicio: 17.30 \nLa duración aproximada será 1.30 minutos \nIdioma: Español \nHabrá café y churros
URL:https://aescania.org/event/los-paises-nordicos-y-el-camino-de-santiago/
LOCATION:Vibliotek Malmö\, Södra Vallgatan 3\,\, Malmö\, 211 40\, Suecia
CATEGORIES:Charlas
END:VEVENT
BEGIN:VEVENT
DTSTART;TZID=Europe/Paris:20211121T103000
DTEND;TZID=Europe/Paris:20211121T120000
DTSTAMP:20260419T151842
CREATED:20211109T192902Z
LAST-MODIFIED:20211109T193158Z
UID:632-1637490600-1637496000@aescania.org
SUMMARY:Hola Helsingborg. AEScania puertas abiertas
DESCRIPTION:Poco a poco seguimos creciendo para poder organizar actividades en todos los rincones de Skåne. Recientemente AEScania se ha registrado en Helsingbor kommun y lo queremos celebrar con todos vosotros. \nEl próximo domingo 21/11 a las 10:30 AM nos vemos en Helsingborg para acercarnos a todos los españoles y allegados que tengan ganas de pasar un buen rato juntos y descubrir la asociación. \nMás detalles sobre localización pronto sigue la info en nuestras redes sociales o en la web. \n 
URL:https://aescania.org/event/hola-helsingborg-aescania-puertas-abiertas/
END:VEVENT
BEGIN:VEVENT
DTSTART;TZID=Europe/Paris:20210918T170000
DTEND;TZID=Europe/Paris:20210918T183000
DTSTAMP:20260419T151842
CREATED:20210907T173830Z
LAST-MODIFIED:20210907T173830Z
UID:608-1631984400-1631989800@aescania.org
SUMMARY:Cuentacuentos en Escania
DESCRIPTION:Reactivamos nuestras actividades culturales con David Acera cuentacuentos para niños de 4 a 104 años! \nREQUIERE REGISTRO PREVIO. FORMULARIO AQUI \n \nDavid nos cuenta en su web el origen de los «cuenteros».. .¿no os parece un concepto precioso? Cuentero. \nSignificado de cuentero\nHay tantas maneras de contar historias como de definir la hermosa profesión de David Acera. Un cuentacuentos\, contador o cuentero es un narrador oral de cuentos y de historias. Un oficio con vocación de de servicio público que tiene su origen en los trovadores de la Edad Media\, guardianes de la memoria de los pueblos. Gentes que van de un lado a otro llevando cuentos\, historias y sabiduría. Todo ello está muy presente en la trayectoria de David Acera\, que ha vinculado su profesión a la educación y a la labor social\, transmitiendo sus historias a distintas culturas\, en distintos lugares de África\, Asia y Sudamérica. \nMax 50 personas. Para poder organizarnos en principio lo ideal sería un acompañante por niño. Niños mayores de  años podrían quedarse sin acompañante. \nRegistrate aqui: Formulario de registro  \n  \n 
URL:https://aescania.org/event/cuentacuentos-en-escania/
LOCATION:Vårrukolan Gymnastikal\, Råbygatan 8\, Lund\, Suecia
END:VEVENT
BEGIN:VEVENT
DTSTART;TZID=Europe/Paris:20210327T103000
DTEND;TZID=Europe/Paris:20210327T180000
DTSTAMP:20260419T151842
CREATED:20210315T202052Z
LAST-MODIFIED:20210315T203212Z
UID:583-1616841000-1616868000@aescania.org
SUMMARY:Parques en Helsingborg. Visitamos Sofiero y Fredriksdal
DESCRIPTION:El próximo sábado 27 de marzo  visitamos dos parques de Helsingborg \nYa estamos casi en primavera y queremos descubrir los rincones de Skåne en Helsingborg.  \nPor el bien y la seguridad de todos la idea es un paseo al aire libre con la responsabilidad individual de cada uno para mantener las distancias y recomendaciones actuales. \nNos vemos pronto y os prometemos una sorpresa para los más pequeños!  \n10.30 Entrada principal Frediskdal  \n14.00 Entrada principal Sofiero \nAmbos sitios tienen ahora entrada gratuita\, parking cercano\, área de parque para niños\, zonas de picnic y cafetería. Visita sus webs para más información o pregúntanos!
URL:https://aescania.org/event/parques-en-helsingborg-visitamos-sofiero-y-fredriksdal/
CATEGORIES:Actividades aire libre
END:VEVENT
BEGIN:VEVENT
DTSTART;TZID=Europe/Paris:20201205T100000
DTEND;TZID=Europe/Paris:20201205T100000
DTSTAMP:20260419T151842
CREATED:20201128T105933Z
LAST-MODIFIED:20201128T110532Z
UID:533-1607162400-1607162400@aescania.org
SUMMARY:Charla – Cómo se diagnostica SARS-CoV-19 en el laboratorio clínico.
DESCRIPTION:Bienvenidos a la primera de una serie de charlas informativas\, interactivas\, e informales\, en las que trataremos temas de actualidad\, con la ayuda de nuestros socios. \n¿Quién no ha oído en estos días hablar de PCRs\, o de análisis de anticuerpos? ¿Cómo funcionan estas pruebas? ¿Son fiables?  \nEn esta charla\, Juan Bataller nos explicará en qué consisten las distintas pruebas diagnósticas para la COVID-19\, y tendremos ocasión de preguntarle todo aquello que no nos cuenta Fernando Simón. ¿Te lo vas a perder?  \n \nJuan Bataller lleva 25 años trabajando para diferentes compañías en el sector de diagnóstico clínico de enfermedades infecciosas. \njuan.bataller@gmail.com \nflipul@gmail.com \nEnlace al evento: \nhttps://meet.google.com/wyf-tvnp-nyd \n  \nRecuerda: para asistir a la charla debes estar asociado a AEScania y haber pagado la cuota. Si deseas asociarte\, pincha aquí: https://forms.gle/C393sx7THzVYTf5c6
URL:https://aescania.org/event/charla-como-se-diagnostica-sars-cov-19-en-el-laboratorio-clinico/
LOCATION:ON LINE
END:VEVENT
BEGIN:VEVENT
DTSTART;VALUE=DATE:20201111
DTEND;VALUE=DATE:20210225
DTSTAMP:20260419T151842
CREATED:20201108T101019Z
LAST-MODIFIED:20201108T173912Z
UID:472-1605052800-1614211199@aescania.org
SUMMARY:Clases de sueco online para hispanohablantes
DESCRIPTION:Clases de sueco para castellanohablantes en las que se podrá ajustar la clase a las necesidades del grupo con el fin de mejorar todos y resolver dudas. \n \nLa clase será los miércoles de las semanas pares\, de 16:30 a 17:30.  Las sesiones se realizan via «zoom» con un máximo de participantes 10 alumnos. \nSi te interesa participar contacta directamente con nuestra compañera Noelia (noeliamartel@hotmail.com)
URL:https://aescania.org/event/clases-de-sueco-online/
CATEGORIES:Clases,Español
END:VEVENT
BEGIN:VEVENT
DTSTART;TZID=Europe/Paris:20200515T160000
DTEND;TZID=Europe/Paris:20200515T163000
DTSTAMP:20260419T151842
CREATED:20200303T160716Z
LAST-MODIFIED:20200303T160716Z
UID:249-1589558400-1589560200@aescania.org
SUMMARY:Cuentacuentos en Lund (mayo)
DESCRIPTION:Ven con los peques a disfurtar de los mismos cuentos que todos disfrutamos en nuestra infancia. \n20 minutos en cada ocasion\, diferentes historias y diferentes aventuras. 
URL:https://aescania.org/event/cuentacuentos-en-lund-mayo/
LOCATION:Norra Fäladens bibliotek\, Svenshögsvägen 25\, Lund\, Suecia
END:VEVENT
BEGIN:VEVENT
DTSTART;TZID=Europe/Paris:20200417T160000
DTEND;TZID=Europe/Paris:20200417T163000
DTSTAMP:20260419T151842
CREATED:20200303T160528Z
LAST-MODIFIED:20200410T152340Z
UID:247-1587139200-1587141000@aescania.org
SUMMARY:Cuentacuentos en Lund (Abril)
DESCRIPTION:  \nEVENTO CANCELADO POR COVID 19 \nVen con los peques a disfurtar de los mismos cuentos que todos disfrutamos en nuestra infancia. \n20 minutos en cada ocasion\, diferentes historias y diferentes aventuras. 
URL:https://aescania.org/event/cuentacuentos-en-lund-abril/
LOCATION:Norra Fäladens bibliotek\, Svenshögsvägen 25\, Lund\, Suecia
END:VEVENT
BEGIN:VEVENT
DTSTART;TZID=Europe/Paris:20200315T123000
DTEND;TZID=Europe/Paris:20200315T163000
DTSTAMP:20260419T151842
CREATED:20200222T151628Z
LAST-MODIFIED:20200313T073853Z
UID:202-1584275400-1584289800@aescania.org
SUMMARY:Taller de tapas en Helsingborg
DESCRIPTION:POR RESPONSABILIDAD SOCIAL SE POSPONE ESTE EVENTO HASTA PROXIMO AVISO \n  \nHej vänner\,Med tanke på omständigheterna har vi på AEScania bestämt att skjuta upp vår Tapas kurs\, planerad för den 15 Mars.Vi kommer att kontakta alla deltagare personligt\, och håller er uppdaterade om nya datum.Tack för er intresse! \n(español más abajo) \nTycker du om du god mat? Tycker du om att lära dig nya saker? \nKom på vår första “Taller de Tapas AESCania” workshop i Helsingborg. \nNågra av våra medlemmar delar med sig av sina hemliga recept på de bästa spanska tapasrätterna i en workshop där vi lagar maten tillsammans och därefter äter den. \nSalmorejo\, tortilla de patatas\, pisto\, croquetas de bacalao\, sobrasada vegana\, pan tumaca (pa amb tomàquet)\, pinxo de queso de cabra y anchoa\, \n\n			\n				\n			\n				\n				Pisto\n				\n			\n				\n			\n				\n				Salmorejo\n				\n			\n				\n			\n				\n				Croquetas\n				\n			\n				\n			\n				\n				Tortilla\n				\n		\n\nReservera söndagen den 15 mars kl. 12.30 – 16.30 och kom för en trevlig eftermiddag med oss. Skicka din anmälan till oss innan platserna tar slut: info@aescania.org \nPriser och villkor \n\nMedlem: 300 SEK\nÄnnu inte medlem: 350 SEK\n\nPriset inkluderar workshop\, ingredienser och avsmakning. Vi bjuder på vattnet\, läskedrycker och kaffe men nu får gärna ta med egen dryck om så önskas. \nAntalet platser är begränsat\, anmäl dig och betala senast den 7 mars för att bekräfta din plats. \nRegistrera dig här Registrera så skickar vi dig instruktionerna för att göra betalningen \n\n¿Te gusta la buena comida? ¿Te gusta aprender cosas nuevas? Únete a nuestro primer “Taller de Tapas AESCania” en Helsingborg.  \nAlgunos de nuestros socios compartirán sus recetas secretas de las mejores tapas españolas en un taller totalmente práctico donde cocinaremos todos juntos y con una posterior degustación: \n Salmorejo\, tortilla de patatas\, pisto\, croquetas de bacalao\, sobrasada vegana\, pan tumaca (pa amb tomàquet)\, pinxo de queso de cabra y anchoa. \nReserva el próximo domingo 15 de marzo en tu agenda de 12.30 – 16.30 y ven con nosotros a pasar un buen rato. Informacion en: info@aescania.org \nRegistrate aqui registro y te enviaremos las instrucciones para hacer el pago \nPrecio y condiciones: \n\nPrecio socios: 300 SEK\nPrecio no socios: 350 SEK\n\nPrecio incluye taller práctico\, ingredientes y degustación. Bebidas de cortesía incluidas (agua\, refrescos y café) pero puedes traer algo extra para beber si lo deseas. \nPlazas limitadas\, las inscripciones se cierran el dia 7 de marzo 2020 y es imprescindible el pago por adelantado para confirmar la inscripción.  \nUbicación: Fyrhögagatan\, Helsingborg https://goo.gl/maps/kbRA5YtJKWfPuweA9
URL:https://aescania.org/event/taller-de-tapas-en-helsingborg/
LOCATION:Fyrhögagatan\, Helsingborg\, Fyrhögagatan\, Helsingborg\, Suecia
ATTACH;FMTTYPE=image/png:https://media.aescania.org/2020/02/Captura-de-pantalla-2020-02-22-a-las-15.45.51-e1582385720704.png
END:VEVENT
BEGIN:VEVENT
DTSTART;TZID=Europe/Paris:20200307T133000
DTEND;TZID=Europe/Paris:20200307T140000
DTSTAMP:20260419T151842
CREATED:20200303T160107Z
LAST-MODIFIED:20200303T160340Z
UID:239-1583587800-1583589600@aescania.org
SUMMARY:Cuenta cuentos en Lund (marzo)
DESCRIPTION:Ven con los peques a disfurtar de los mismos cuentos que todos disfrutamos en nuestra infancia. \n20 minutos en cada ocasion\, diferentes historias y diferentes aventuras.  \n 
URL:https://aescania.org/event/cuenta-cuentos-en-lund-marzo/
LOCATION:Norra Fäladens bibliotek\, Svenshögsvägen 25\, Lund\, Suecia
END:VEVENT
BEGIN:VEVENT
DTSTART;TZID=Europe/Paris:20200304T163000
DTEND;TZID=Europe/Paris:20200304T173000
DTSTAMP:20260419T151842
CREATED:20200302T114407Z
LAST-MODIFIED:20200313T164118Z
UID:233-1583339400-1583343000@aescania.org
SUMMARY:Clases de sueco para hispanohablantes en Lund
DESCRIPTION:  \n \nSentimos comunicar que este evento ha sido cancelado hasta proximo aviso. \nClases de sueco para hispanohablantes en las que se podrá ajustar la clase a las necesidades del grupo con el fin de mejorar todos y resolver dudas. La clase será los miércoles de las semanas pares\, comenzando en la semana 10.   \nMáximo de participantes 10 alumnos. \nMas info en: eventos@aescania.org \n 
URL:https://aescania.org/event/clases-de-sueco-para-hispanohablantes-en-lund/
LOCATION:Lund
END:VEVENT
BEGIN:VEVENT
DTSTART;TZID=Europe/Paris:20200219T180000
DTEND;TZID=Europe/Paris:20200219T180000
DTSTAMP:20260419T151842
CREATED:20200114T071550Z
LAST-MODIFIED:20200208T185646Z
UID:108-1582135200-1582135200@aescania.org
SUMMARY:Tertulias  literarias en Lund
DESCRIPTION:Tertulias literarias en Lund.\nVarias sesiones para disfrutar juntos\, aprender y crecer \n19 feb 18.00 Utsikten: Deckare och Thriller – Tras la pista \n11 mars 18.00 Utsikten: Reselitteratur – Vida y viaje \n15 april 18.00 Utsikten: Historiska romaner och biografier – Realidad o ficción
URL:https://aescania.org/event/tertulias-literarias-en-lund/
LOCATION:Biblioteca de Lund;\, Sankt Petri kyrkogata 6\,\, Lund\, Suecia
END:VEVENT
BEGIN:VEVENT
DTSTART;TZID=Europe/Paris:20200125T110000
DTEND;TZID=Europe/Paris:20200125T130000
DTSTAMP:20260419T151842
CREATED:20200114T043537Z
LAST-MODIFIED:20200114T043537Z
UID:102-1579950000-1579957200@aescania.org
SUMMARY:Asamblea ordinaria socios 2020
DESCRIPTION:Como sabéis\, solo los miembros de pleno derecho tienen derecho a voto\, pero estáis todos invitados a participar en los debates y a contribuir con proposiciones e ideas para desarrollar nuestra Asociación. \nEl orden del día es: \n1) Bienvenida a los nuevos socios. \n2) Aprobación del acta de la asamblea anterior \n3) Resumen de los eventos realizados: 12 Octubre\, Reyes. \n4) Estado de cuentas \n5) Cuotas de socio para 2021 \n6) Cambio de estatutos: nombre de la Sra. Presidenta \n7) Resumen de la actividad de los grupos de trabajo: cultura/eventos\, comunicación\, punto de encuentro \n8) Ruegos y Preguntas
URL:https://aescania.org/event/asamblea-ordinaria-socios-2020/
LOCATION:Medicon village Lund\, Scheeletorget 1\, 223 63\, Lund\, Suecia
END:VEVENT
BEGIN:VEVENT
DTSTART;TZID=Europe/Paris:20200111T140000
DTEND;TZID=Europe/Paris:20200111T140000
DTSTAMP:20260419T151842
CREATED:20200101T205716Z
LAST-MODIFIED:20200101T205716Z
UID:65-1578751200-1578751200@aescania.org
SUMMARY:Fiesta Reyes Magos
DESCRIPTION:Reserva el sábado 11 de enero y vente con nosotros a recibir a SSMM los Reyes Magos con AEScania. Chocolatada para empezar\, acompañada del tradicional Roscón de Reyes y la visita de de SSMM los Reyes Magos. Pasaremos un buen rato juntos con distintas actividades: Concurso de dibujos\, función de títeres… y hasta un coro de campanilleros para los más valientes! \nEn breve os enviaremos un e-mail a todos los socios con la información adicional: cómo reservar entradas\, cómo coordinar la comida\, si alguien quiere actuar / cantar / bailar…) \nPrecios de las entradas\nMiembros de pleno derecho: 75 SEK\nMiembros asociados: 150 SEK\nOtros: 250 SEK \n  \nMas informacion en: info@aescania.org
URL:https://aescania.org/event/fiesta-reyes-magos/
LOCATION:Hemvärnsgården\, Getingevägen 13\, Lund\, Skane\, 22241\, Suecia
END:VEVENT
END:VCALENDAR